BEGIN:VCALENDAR
VERSION:2.0
PRODID:-//It&auml;-P&auml;ij&auml;nteen Vapaaseurakunta - ECPv6.15.20//NONSGML v1.0//EN
CALSCALE:GREGORIAN
METHOD:PUBLISH
X-WR-CALNAME:It&auml;-P&auml;ij&auml;nteen Vapaaseurakunta
X-ORIGINAL-URL:https://ita-paijanne.svk.fi
X-WR-CALDESC:Tapahtumat It&auml;-P&auml;ij&auml;nteen Vapaaseurakunta
REFRESH-INTERVAL;VALUE=DURATION:PT1H
X-Robots-Tag:noindex
X-PUBLISHED-TTL:PT1H
BEGIN:VTIMEZONE
TZID:Europe/Helsinki
BEGIN:DAYLIGHT
TZOFFSETFROM:+0200
TZOFFSETTO:+0300
TZNAME:EEST
DTSTART:20240331T010000
END:DAYLIGHT
BEGIN:STANDARD
TZOFFSETFROM:+0300
TZOFFSETTO:+0200
TZNAME:EET
DTSTART:20241027T010000
END:STANDARD
BEGIN:DAYLIGHT
TZOFFSETFROM:+0200
TZOFFSETTO:+0300
TZNAME:EEST
DTSTART:20250330T010000
END:DAYLIGHT
BEGIN:STANDARD
TZOFFSETFROM:+0300
TZOFFSETTO:+0200
TZNAME:EET
DTSTART:20251026T010000
END:STANDARD
BEGIN:DAYLIGHT
TZOFFSETFROM:+0200
TZOFFSETTO:+0300
TZNAME:EEST
DTSTART:20260329T010000
END:DAYLIGHT
BEGIN:STANDARD
TZOFFSETFROM:+0300
TZOFFSETTO:+0200
TZNAME:EET
DTSTART:20261025T010000
END:STANDARD
END:VTIMEZONE
BEGIN:VEVENT
DTSTART;TZID=Europe/Helsinki:20250430T151000
DTEND;TZID=Europe/Helsinki:20250430T160000
DTSTAMP:20260423T033842
CREATED:20250414T182808Z
LAST-MODIFIED:20250414T182808Z
UID:3289-1746025800-1746028800@ita-paijanne.svk.fi
SUMMARY:Keskiv. 30.4 klo.15.10 HARTAUS. Klo.15.30-16.00 ELINTARVIKETUOTTEIDEN JAKO.
DESCRIPTION:Keskiviikkona 30.4  on poikkeuksellisesti ”leipä-jako” vapun vuoksi keskiviikkona. \nSiis klo.15.10 on hartaushetki. Ja klo 15.30-16.00  jaetaan elintarviketuotteita.
URL:https://ita-paijanne.svk.fi/tapahtumat/keskiv-30-4-klo-15-10-hartaus-klo-15-30-16-00-elintarviketuotteiden-jako/
ATTACH;FMTTYPE=image/jpeg:https://ita-paijanne.svk.fi/wp-content/uploads/2025/01/Leipa.Jak_.1.jpg
END:VEVENT
END:VCALENDAR