BEGIN:VCALENDAR
VERSION:2.0
PRODID:-//It&auml;-P&auml;ij&auml;nteen Vapaaseurakunta - ECPv6.15.20//NONSGML v1.0//EN
CALSCALE:GREGORIAN
METHOD:PUBLISH
X-ORIGINAL-URL:https://ita-paijanne.svk.fi
X-WR-CALDESC:Tapahtumat It&auml;-P&auml;ij&auml;nteen Vapaaseurakunta
REFRESH-INTERVAL;VALUE=DURATION:PT1H
X-Robots-Tag:noindex
X-PUBLISHED-TTL:PT1H
BEGIN:VTIMEZONE
TZID:Europe/Helsinki
BEGIN:DAYLIGHT
TZOFFSETFROM:+0200
TZOFFSETTO:+0300
TZNAME:EEST
DTSTART:20240331T010000
END:DAYLIGHT
BEGIN:STANDARD
TZOFFSETFROM:+0300
TZOFFSETTO:+0200
TZNAME:EET
DTSTART:20241027T010000
END:STANDARD
BEGIN:DAYLIGHT
TZOFFSETFROM:+0200
TZOFFSETTO:+0300
TZNAME:EEST
DTSTART:20250330T010000
END:DAYLIGHT
BEGIN:STANDARD
TZOFFSETFROM:+0300
TZOFFSETTO:+0200
TZNAME:EET
DTSTART:20251026T010000
END:STANDARD
BEGIN:DAYLIGHT
TZOFFSETFROM:+0200
TZOFFSETTO:+0300
TZNAME:EEST
DTSTART:20260329T010000
END:DAYLIGHT
BEGIN:STANDARD
TZOFFSETFROM:+0300
TZOFFSETTO:+0200
TZNAME:EET
DTSTART:20261025T010000
END:STANDARD
END:VTIMEZONE
BEGIN:VEVENT
DTSTART;TZID=Europe/Helsinki:20250617T110000
DTEND;TZID=Europe/Helsinki:20250617T120000
DTSTAMP:20260423T020345
CREATED:20250528T191704Z
LAST-MODIFIED:20250528T191704Z
UID:3358-1750158000-1750161600@ita-paijanne.svk.fi
SUMMARY:Ti. 17.6. klo.11.00. ON AIKA RUKOILLA. Jumalan Sanaa ja rukousta.
DESCRIPTION:
URL:https://ita-paijanne.svk.fi/tapahtumat/ti-17-6-klo-11-00-on-aika-rukoilla-jumalan-sanaa-ja-rukousta/
END:VEVENT
END:VCALENDAR