BEGIN:VCALENDAR
VERSION:2.0
PRODID:-//It&auml;-P&auml;ij&auml;nteen Vapaaseurakunta - ECPv6.15.20//NONSGML v1.0//EN
CALSCALE:GREGORIAN
METHOD:PUBLISH
X-WR-CALNAME:It&auml;-P&auml;ij&auml;nteen Vapaaseurakunta
X-ORIGINAL-URL:https://ita-paijanne.svk.fi
X-WR-CALDESC:Tapahtumat It&auml;-P&auml;ij&auml;nteen Vapaaseurakunta
REFRESH-INTERVAL;VALUE=DURATION:PT1H
X-Robots-Tag:noindex
X-PUBLISHED-TTL:PT1H
BEGIN:VTIMEZONE
TZID:Europe/Helsinki
BEGIN:DAYLIGHT
TZOFFSETFROM:+0200
TZOFFSETTO:+0300
TZNAME:EEST
DTSTART:20240331T010000
END:DAYLIGHT
BEGIN:STANDARD
TZOFFSETFROM:+0300
TZOFFSETTO:+0200
TZNAME:EET
DTSTART:20241027T010000
END:STANDARD
BEGIN:DAYLIGHT
TZOFFSETFROM:+0200
TZOFFSETTO:+0300
TZNAME:EEST
DTSTART:20250330T010000
END:DAYLIGHT
BEGIN:STANDARD
TZOFFSETFROM:+0300
TZOFFSETTO:+0200
TZNAME:EET
DTSTART:20251026T010000
END:STANDARD
BEGIN:DAYLIGHT
TZOFFSETFROM:+0200
TZOFFSETTO:+0300
TZNAME:EEST
DTSTART:20260329T010000
END:DAYLIGHT
BEGIN:STANDARD
TZOFFSETFROM:+0300
TZOFFSETTO:+0200
TZNAME:EET
DTSTART:20261025T010000
END:STANDARD
END:VTIMEZONE
BEGIN:VEVENT
DTSTART;TZID=Europe/Helsinki:20250719T080000
DTEND;TZID=Europe/Helsinki:20250719T170000
DTSTAMP:20260423T003412
CREATED:20250719T201204Z
LAST-MODIFIED:20250719T201204Z
UID:3409-1752912000-1752944400@ita-paijanne.svk.fi
SUMMARY:Su.17.8 klo.11.00 Jumalanpalvelus\, Seppo Peltomäki.
DESCRIPTION:
URL:https://ita-paijanne.svk.fi/tapahtumat/su-17-8-klo-11-00-jumalanpalvelus-seppo-peltomaki/
ATTACH;FMTTYPE=image/jpeg:https://ita-paijanne.svk.fi/wp-content/uploads/2024/01/Alttari-scaled.jpg
END:VEVENT
BEGIN:VEVENT
DTSTART;TZID=Europe/Helsinki:20250719T080000
DTEND;TZID=Europe/Helsinki:20250719T170000
DTSTAMP:20260423T003412
CREATED:20250719T202047Z
LAST-MODIFIED:20250719T202047Z
UID:3415-1752912000-1752944400@ita-paijanne.svk.fi
SUMMARY:Su.17.8  klo.11.00 Jumalanpalvelus\, Seppo Peltomäki
DESCRIPTION:
URL:https://ita-paijanne.svk.fi/tapahtumat/su-17-8-klo-11-00-jumalanpalvelus-seppo-peltomaki-2/
ATTACH;FMTTYPE=image/jpeg:https://ita-paijanne.svk.fi/wp-content/uploads/2024/01/Alttari-scaled.jpg
END:VEVENT
BEGIN:VEVENT
DTSTART;TZID=Europe/Helsinki:20250719T080000
DTEND;TZID=Europe/Helsinki:20250719T170000
DTSTAMP:20260423T003412
CREATED:20250719T202315Z
LAST-MODIFIED:20250719T202315Z
UID:3417-1752912000-1752944400@ita-paijanne.svk.fi
SUMMARY:Su.24.8. klo.11.00  Jumalanpalvelus\, Pauli Särkkä.
DESCRIPTION:
URL:https://ita-paijanne.svk.fi/tapahtumat/su-24-8-klo-11-00-jumalanpalvelus-pauli-sarkka/
END:VEVENT
BEGIN:VEVENT
DTSTART;TZID=Europe/Helsinki:20250719T080000
DTEND;TZID=Europe/Helsinki:20250719T170000
DTSTAMP:20260423T003412
CREATED:20250719T203100Z
LAST-MODIFIED:20250719T203100Z
UID:3423-1752912000-1752944400@ita-paijanne.svk.fi
SUMMARY:Su. 24.8 klo.11.00. Jumalanpalvelus\, Pauli Särkkä
DESCRIPTION:
URL:https://ita-paijanne.svk.fi/tapahtumat/su-24-8-klo-11-00-jumalanpalvelus-pauli-sarkka-2/
ATTACH;FMTTYPE=image/jpeg:https://ita-paijanne.svk.fi/wp-content/uploads/2024/01/Alttari-scaled.jpg
END:VEVENT
END:VCALENDAR