BEGIN:VCALENDAR
VERSION:2.0
PRODID:-//It&auml;-P&auml;ij&auml;nteen Vapaaseurakunta - ECPv6.15.20//NONSGML v1.0//EN
CALSCALE:GREGORIAN
METHOD:PUBLISH
X-ORIGINAL-URL:https://ita-paijanne.svk.fi
X-WR-CALDESC:Tapahtumat It&auml;-P&auml;ij&auml;nteen Vapaaseurakunta
REFRESH-INTERVAL;VALUE=DURATION:PT1H
X-Robots-Tag:noindex
X-PUBLISHED-TTL:PT1H
BEGIN:VTIMEZONE
TZID:Europe/Helsinki
BEGIN:DAYLIGHT
TZOFFSETFROM:+0200
TZOFFSETTO:+0300
TZNAME:EEST
DTSTART:20250330T010000
END:DAYLIGHT
BEGIN:STANDARD
TZOFFSETFROM:+0300
TZOFFSETTO:+0200
TZNAME:EET
DTSTART:20251026T010000
END:STANDARD
BEGIN:DAYLIGHT
TZOFFSETFROM:+0200
TZOFFSETTO:+0300
TZNAME:EEST
DTSTART:20260329T010000
END:DAYLIGHT
BEGIN:STANDARD
TZOFFSETFROM:+0300
TZOFFSETTO:+0200
TZNAME:EET
DTSTART:20261025T010000
END:STANDARD
BEGIN:DAYLIGHT
TZOFFSETFROM:+0200
TZOFFSETTO:+0300
TZNAME:EEST
DTSTART:20270328T010000
END:DAYLIGHT
BEGIN:STANDARD
TZOFFSETFROM:+0300
TZOFFSETTO:+0200
TZNAME:EET
DTSTART:20271031T010000
END:STANDARD
END:VTIMEZONE
BEGIN:VEVENT
DTSTART;TZID=Europe/Helsinki:20260409T150000
DTEND;TZID=Europe/Helsinki:20260409T160000
DTSTAMP:20260420T213928
CREATED:20260405T151012Z
LAST-MODIFIED:20260406T191640Z
UID:3728-1775746800-1775750400@ita-paijanne.svk.fi
SUMMARY:To.9.4 klo.15.00 HARTAUS\, Antti Lempiäinen. Ja klo.15.25 Elintarviketuotteiden jako.
DESCRIPTION:
URL:https://ita-paijanne.svk.fi/tapahtumat/to-9-4-klo-15-00-hartaus-antti-lempinen-klo-15-25-elintarviketuotteiden-jako/
ATTACH;FMTTYPE=image/jpeg:https://ita-paijanne.svk.fi/wp-content/uploads/2022/07/leipa.Jako_.Kuv_.jpg
END:VEVENT
END:VCALENDAR