BEGIN:VCALENDAR
VERSION:2.0
PRODID:-//It&auml;-P&auml;ij&auml;nteen Vapaaseurakunta - ECPv6.15.20//NONSGML v1.0//EN
CALSCALE:GREGORIAN
METHOD:PUBLISH
X-ORIGINAL-URL:https://ita-paijanne.svk.fi
X-WR-CALDESC:Tapahtumat It&auml;-P&auml;ij&auml;nteen Vapaaseurakunta
REFRESH-INTERVAL;VALUE=DURATION:PT1H
X-Robots-Tag:noindex
X-PUBLISHED-TTL:PT1H
BEGIN:VTIMEZONE
TZID:Europe/Helsinki
BEGIN:DAYLIGHT
TZOFFSETFROM:+0200
TZOFFSETTO:+0300
TZNAME:EEST
DTSTART:20250330T010000
END:DAYLIGHT
BEGIN:STANDARD
TZOFFSETFROM:+0300
TZOFFSETTO:+0200
TZNAME:EET
DTSTART:20251026T010000
END:STANDARD
BEGIN:DAYLIGHT
TZOFFSETFROM:+0200
TZOFFSETTO:+0300
TZNAME:EEST
DTSTART:20260329T010000
END:DAYLIGHT
BEGIN:STANDARD
TZOFFSETFROM:+0300
TZOFFSETTO:+0200
TZNAME:EET
DTSTART:20261025T010000
END:STANDARD
BEGIN:DAYLIGHT
TZOFFSETFROM:+0200
TZOFFSETTO:+0300
TZNAME:EEST
DTSTART:20270328T010000
END:DAYLIGHT
BEGIN:STANDARD
TZOFFSETFROM:+0300
TZOFFSETTO:+0200
TZNAME:EET
DTSTART:20271031T010000
END:STANDARD
END:VTIMEZONE
BEGIN:VEVENT
DTSTART;TZID=Europe/Helsinki:20260426T110000
DTEND;TZID=Europe/Helsinki:20260426T130000
DTSTAMP:20260420T213928
CREATED:20260316T105543Z
LAST-MODIFIED:20260316T165901Z
UID:3706-1777201200-1777208400@ita-paijanne.svk.fi
SUMMARY:Su. 26.4  klo.11.00  JUMALANPALVELUS\, evankelista Sari Matikainen tuo ilosanomaa sanoin ja sävelin.
DESCRIPTION:
URL:https://ita-paijanne.svk.fi/tapahtumat/su-26-4-klo-12-00-jumalanpalvelus-evankelista-sari-matikainen-tuo-ilosanomaa-sanoin-ja-savelin/
ATTACH;FMTTYPE=image/jpeg:https://ita-paijanne.svk.fi/wp-content/uploads/2025/05/Sari.M.uusi_.jpg
END:VEVENT
END:VCALENDAR