BEGIN:VCALENDAR
VERSION:2.0
PRODID:-//It&auml;-P&auml;ij&auml;nteen Vapaaseurakunta - ECPv6.15.20//NONSGML v1.0//EN
CALSCALE:GREGORIAN
METHOD:PUBLISH
X-ORIGINAL-URL:https://ita-paijanne.svk.fi
X-WR-CALDESC:Tapahtumat It&auml;-P&auml;ij&auml;nteen Vapaaseurakunta
REFRESH-INTERVAL;VALUE=DURATION:PT1H
X-Robots-Tag:noindex
X-PUBLISHED-TTL:PT1H
BEGIN:VTIMEZONE
TZID:Europe/Helsinki
BEGIN:DAYLIGHT
TZOFFSETFROM:+0200
TZOFFSETTO:+0300
TZNAME:EEST
DTSTART:20240331T010000
END:DAYLIGHT
BEGIN:STANDARD
TZOFFSETFROM:+0300
TZOFFSETTO:+0200
TZNAME:EET
DTSTART:20241027T010000
END:STANDARD
BEGIN:DAYLIGHT
TZOFFSETFROM:+0200
TZOFFSETTO:+0300
TZNAME:EEST
DTSTART:20250330T010000
END:DAYLIGHT
BEGIN:STANDARD
TZOFFSETFROM:+0300
TZOFFSETTO:+0200
TZNAME:EET
DTSTART:20251026T010000
END:STANDARD
BEGIN:DAYLIGHT
TZOFFSETFROM:+0200
TZOFFSETTO:+0300
TZNAME:EEST
DTSTART:20260329T010000
END:DAYLIGHT
BEGIN:STANDARD
TZOFFSETFROM:+0300
TZOFFSETTO:+0200
TZNAME:EET
DTSTART:20261025T010000
END:STANDARD
END:VTIMEZONE
BEGIN:VEVENT
DTSTART;TZID=Europe/Helsinki:20250504T110000
DTEND;TZID=Europe/Helsinki:20250504T130000
DTSTAMP:20260423T020703
CREATED:20250422T113406Z
LAST-MODIFIED:20250429T122742Z
UID:3297-1746356400-1746363600@ita-paijanne.svk.fi
SUMMARY:Su. 4.5 klo.11.00  EHTOOLLISJUHLA.
DESCRIPTION:Sunnuntaina  4.5  klo.11.00  on EHTOOLLISJUHLA.
URL:https://ita-paijanne.svk.fi/tapahtumat/su-4-5-klo-11-00-ehtoollisjuhla-puhuu-evankelista-tarja-huuskonen/
ATTACH;FMTTYPE=image/jpeg:https://ita-paijanne.svk.fi/wp-content/uploads/2023/12/Eht.Kuva_.1.jpg
END:VEVENT
BEGIN:VEVENT
DTSTART;TZID=Europe/Helsinki:20250506T110000
DTEND;TZID=Europe/Helsinki:20250506T120000
DTSTAMP:20260423T020703
CREATED:20250422T113736Z
LAST-MODIFIED:20250422T114802Z
UID:3300-1746529200-1746532800@ita-paijanne.svk.fi
SUMMARY:Ti. 6.5 klo.11.00  ON AIKA RUKOILLA! Tutkimme yhdessä Jumalan Sanaa ja rukoillaan.
DESCRIPTION:
URL:https://ita-paijanne.svk.fi/tapahtumat/ti-6-5-klo-11-00-on-aika-rukoilla-tutkimme-yhdessa-jumalan-sanaa-ja-rukoillaan/
ATTACH;FMTTYPE=image/jpeg:https://ita-paijanne.svk.fi/wp-content/uploads/2024/01/cropped-srk.Risti_-e1745322458898.jpg
END:VEVENT
BEGIN:VEVENT
DTSTART;TZID=Europe/Helsinki:20250511T110000
DTEND;TZID=Europe/Helsinki:20250511T130000
DTSTAMP:20260423T020703
CREATED:20250422T115056Z
LAST-MODIFIED:20250429T123033Z
UID:3303-1746961200-1746968400@ita-paijanne.svk.fi
SUMMARY:Su. 11.5  klo.11.00  Jumalanpalvelus\, puhuu  Juhani Laukkonen
DESCRIPTION:
URL:https://ita-paijanne.svk.fi/tapahtumat/su-11-5-klo-11-00-jumalanpalvelus-puhuu-juhani-laukkanen/
ATTACH;FMTTYPE=image/jpeg:https://ita-paijanne.svk.fi/wp-content/uploads/2025/04/Juhani.Laukk_.jpeg
END:VEVENT
BEGIN:VEVENT
DTSTART;TZID=Europe/Helsinki:20250513T110000
DTEND;TZID=Europe/Helsinki:20250513T120000
DTSTAMP:20260423T020703
CREATED:20250427T165928Z
LAST-MODIFIED:20250427T165928Z
UID:3318-1747134000-1747137600@ita-paijanne.svk.fi
SUMMARY:Ti.13.5. klo.11.00.  "ON AIKA RUKOILLA!" M Sanan tutkimista ja rukousta!
DESCRIPTION:
URL:https://ita-paijanne.svk.fi/tapahtumat/ti-13-5-klo-11-00-on-aika-rukoilla-m-sanan-tutkimista-ja-rukousta/
END:VEVENT
BEGIN:VEVENT
DTSTART;TZID=Europe/Helsinki:20250515T151000
DTEND;TZID=Europe/Helsinki:20250515T160000
DTSTAMP:20260423T020703
CREATED:20250422T115539Z
LAST-MODIFIED:20250422T115635Z
UID:3306-1747321800-1747324800@ita-paijanne.svk.fi
SUMMARY:To.15.5  klo.15.10 HARTAUS. Klo.15.30-16.00 Elintarviketuotteiden jako.
DESCRIPTION:
URL:https://ita-paijanne.svk.fi/tapahtumat/to-15-5-klo-15-10-hartaus-klo-15-30-16-00-elintarviketuotteiden-jako/
END:VEVENT
BEGIN:VEVENT
DTSTART;TZID=Europe/Helsinki:20250518T110000
DTEND;TZID=Europe/Helsinki:20250518T130000
DTSTAMP:20260423T020703
CREATED:20250422T115936Z
LAST-MODIFIED:20250511T191146Z
UID:3309-1747566000-1747573200@ita-paijanne.svk.fi
SUMMARY:Su. 18.5 klo.11.00  Jumalanpalvelus\,  Evankelista Maija Haikonen ja Jani Lindroos.
DESCRIPTION:
URL:https://ita-paijanne.svk.fi/tapahtumat/su-18-5-klo-11-00-jumalanpalvelus-puhuu-evankelista-maija-haikonen/
ATTACH;FMTTYPE=image/jpeg:https://ita-paijanne.svk.fi/wp-content/uploads/2020/08/Maija.H..jpg
END:VEVENT
BEGIN:VEVENT
DTSTART;TZID=Europe/Helsinki:20250520T110000
DTEND;TZID=Europe/Helsinki:20250520T120000
DTSTAMP:20260423T020703
CREATED:20250427T170446Z
LAST-MODIFIED:20250427T170446Z
UID:3320-1747738800-1747742400@ita-paijanne.svk.fi
SUMMARY:Ti.20.5 klo.11.00  "ON AIKA RUKOILLA" tutkitaan Sanaa ja rukoillaan!
DESCRIPTION:
URL:https://ita-paijanne.svk.fi/tapahtumat/ti-20-5-klo-11-00-on-aika-rukoilla-tutkitaan-sanaa-ja-rukoillaan/
END:VEVENT
BEGIN:VEVENT
DTSTART;TZID=Europe/Helsinki:20250525T110000
DTEND;TZID=Europe/Helsinki:20250525T130000
DTSTAMP:20260423T020703
CREATED:20250422T120817Z
LAST-MODIFIED:20250422T120817Z
UID:3313-1748170800-1748178000@ita-paijanne.svk.fi
SUMMARY:Su. 25.5  klo.11.00  Jumalanpalvelus\,  puhuu  Veijo Heikkilä
DESCRIPTION:
URL:https://ita-paijanne.svk.fi/tapahtumat/su-25-5-klo-11-00-jumalanpalvelus-puhuu-veijo-heikkila/
END:VEVENT
BEGIN:VEVENT
DTSTART;TZID=Europe/Helsinki:20250527T110000
DTEND;TZID=Europe/Helsinki:20250527T110000
DTSTAMP:20260423T020703
CREATED:20250511T191741Z
LAST-MODIFIED:20250511T191741Z
UID:3333-1748343600-1748343600@ita-paijanne.svk.fi
SUMMARY:Ti.27.5. klo.11.00. ON AIKA RUKOILLA. Sanan tutkimista yhdessä ja rukoillaan.
DESCRIPTION:
URL:https://ita-paijanne.svk.fi/tapahtumat/ti-27-5-klo-11-00-on-aika-rukoilla-sanan-tutkimista-yhdessa-ja-rukoillaan/
END:VEVENT
BEGIN:VEVENT
DTSTART;TZID=Europe/Helsinki:20250528T151000
DTEND;TZID=Europe/Helsinki:20250528T160000
DTSTAMP:20260423T020703
CREATED:20250511T192804Z
LAST-MODIFIED:20250511T192804Z
UID:3336-1748445000-1748448000@ita-paijanne.svk.fi
SUMMARY:Ke.28.5 klo.15.10 HARTAUS. Klo.15.30-16.00 elintarviketuotteiden jako.
DESCRIPTION:Torstain juhlapyhän (helatorstai)  on poikkeuksellisesti leipäjako keskiviikkona!
URL:https://ita-paijanne.svk.fi/tapahtumat/ke-28-5-klo-15-10-hartaus-klo-15-30-16-00-elintarviketuotteiden-jako/
ATTACH;FMTTYPE=image/jpeg:https://ita-paijanne.svk.fi/wp-content/uploads/2022/01/IMG_20201216_145027-300x225-1.jpg
END:VEVENT
END:VCALENDAR