BEGIN:VCALENDAR
VERSION:2.0
PRODID:-//It&auml;-P&auml;ij&auml;nteen Vapaaseurakunta - ECPv6.15.20//NONSGML v1.0//EN
CALSCALE:GREGORIAN
METHOD:PUBLISH
X-ORIGINAL-URL:https://ita-paijanne.svk.fi
X-WR-CALDESC:Tapahtumat It&auml;-P&auml;ij&auml;nteen Vapaaseurakunta
REFRESH-INTERVAL;VALUE=DURATION:PT1H
X-Robots-Tag:noindex
X-PUBLISHED-TTL:PT1H
BEGIN:VTIMEZONE
TZID:Europe/Helsinki
BEGIN:DAYLIGHT
TZOFFSETFROM:+0200
TZOFFSETTO:+0300
TZNAME:EEST
DTSTART:20240331T010000
END:DAYLIGHT
BEGIN:STANDARD
TZOFFSETFROM:+0300
TZOFFSETTO:+0200
TZNAME:EET
DTSTART:20241027T010000
END:STANDARD
BEGIN:DAYLIGHT
TZOFFSETFROM:+0200
TZOFFSETTO:+0300
TZNAME:EEST
DTSTART:20250330T010000
END:DAYLIGHT
BEGIN:STANDARD
TZOFFSETFROM:+0300
TZOFFSETTO:+0200
TZNAME:EET
DTSTART:20251026T010000
END:STANDARD
BEGIN:DAYLIGHT
TZOFFSETFROM:+0200
TZOFFSETTO:+0300
TZNAME:EEST
DTSTART:20260329T010000
END:DAYLIGHT
BEGIN:STANDARD
TZOFFSETFROM:+0300
TZOFFSETTO:+0200
TZNAME:EET
DTSTART:20261025T010000
END:STANDARD
END:VTIMEZONE
BEGIN:VEVENT
DTSTART;TZID=Europe/Helsinki:20250601T110000
DTEND;TZID=Europe/Helsinki:20250601T130000
DTSTAMP:20260423T003738
CREATED:20250511T193922Z
LAST-MODIFIED:20250511T193922Z
UID:3338-1748775600-1748782800@ita-paijanne.svk.fi
SUMMARY:Su.1.6 klo.11.00 yhteinen leivänmurto tilaisuus on helluntaiseurakunnassa. Klikkaa lisätietoja!
DESCRIPTION:Sunnuntaina 1.6 klo.11.00. on yhteinen leivänmurtojuhla tilaisuus Joutsan \nhelluntaiseurakunnassa!  Puhujana Tuomo ja Kirsi Lehtimäki\, musiikissa \nSakari Halmemies. Kerätään uhri lastenleiriä varten.
URL:https://ita-paijanne.svk.fi/tapahtumat/su-1-6-klo-11-00-yhteinen-leivanmurto-tilaisuus-on-helluntaiseurakunnassa-klikkaa-lisatietoja/
ATTACH;FMTTYPE=image/webp:https://ita-paijanne.svk.fi/wp-content/uploads/2022/05/risti-e1696008743298.webp
END:VEVENT
BEGIN:VEVENT
DTSTART;TZID=Europe/Helsinki:20250603T110000
DTEND;TZID=Europe/Helsinki:20250603T120000
DTSTAMP:20260423T003738
CREATED:20250527T192622Z
LAST-MODIFIED:20250527T192622Z
UID:3345-1748948400-1748952000@ita-paijanne.svk.fi
SUMMARY:Ti.3.6. Klo.11.00  ON AIKA RUKOILLA. Tutkimme yhdessä Sanaa ja rukoillaan.
DESCRIPTION:
URL:https://ita-paijanne.svk.fi/tapahtumat/ti-3-6-klo-11-00-on-aika-rukoilla-tutkimme-yhdessa-sanaa-ja-rukoillaan/
END:VEVENT
BEGIN:VEVENT
DTSTART;TZID=Europe/Helsinki:20250608T110000
DTEND;TZID=Europe/Helsinki:20250608T130000
DTSTAMP:20260423T003738
CREATED:20250527T192853Z
LAST-MODIFIED:20250528T190359Z
UID:3347-1749380400-1749387600@ita-paijanne.svk.fi
SUMMARY:Su.8.6  klo.11.00. Jumalanpalvelus\, puhuu Markku Kovanen
DESCRIPTION:
URL:https://ita-paijanne.svk.fi/tapahtumat/su-8-6-klo-11-00-jumalanpalvelus-puhuu-markku-kovanen/
ATTACH;FMTTYPE=image/jpeg:https://ita-paijanne.svk.fi/wp-content/uploads/2022/01/markku-233x300-1.jpg
END:VEVENT
BEGIN:VEVENT
DTSTART;TZID=Europe/Helsinki:20250610T110000
DTEND;TZID=Europe/Helsinki:20250610T120000
DTSTAMP:20260423T003738
CREATED:20250528T191337Z
LAST-MODIFIED:20250528T191337Z
UID:3356-1749553200-1749556800@ita-paijanne.svk.fi
SUMMARY:Ti.10.6  klo.11.00. ON AIKA RUKOILLA. Tutkimme yhdessä Sanaa ja rukoillaan.lol
DESCRIPTION:
URL:https://ita-paijanne.svk.fi/tapahtumat/ti-10-6-klo-11-00-on-aika-rukoilla-tutkimme-yhdessa-sanaa-ja-rukoillaan-lol/
ATTACH;FMTTYPE=image/jpeg:https://ita-paijanne.svk.fi/wp-content/uploads/2023/11/kyyhky.korj_.jpg
END:VEVENT
BEGIN:VEVENT
DTSTART;TZID=Europe/Helsinki:20250612T151000
DTEND;TZID=Europe/Helsinki:20250612T160000
DTSTAMP:20260423T003738
CREATED:20250528T190834Z
LAST-MODIFIED:20250528T190834Z
UID:3353-1749741000-1749744000@ita-paijanne.svk.fi
SUMMARY:To.12.6. klo.15.10  HARTAUS. Klo.15.-16.00 Elintarviketuotteiden jako
DESCRIPTION:
URL:https://ita-paijanne.svk.fi/tapahtumat/to-12-6-klo-15-10-hartaus-klo-15-16-00-elintarviketuotteiden-jako/
ATTACH;FMTTYPE=image/jpeg:https://ita-paijanne.svk.fi/wp-content/uploads/2022/01/IMG_20201216_145027-300x225-1.jpg
END:VEVENT
BEGIN:VEVENT
DTSTART;TZID=Europe/Helsinki:20250615T110000
DTEND;TZID=Europe/Helsinki:20250615T130000
DTSTAMP:20260423T003738
CREATED:20250527T193224Z
LAST-MODIFIED:20250527T193224Z
UID:3349-1749985200-1749992400@ita-paijanne.svk.fi
SUMMARY:Su.15.6. Klo.11.00 Jumalanpalvelus\, evankelista Tarja Huuskonen.
DESCRIPTION:
URL:https://ita-paijanne.svk.fi/tapahtumat/su-15-6-klo-11-00-jumalanpalvelus-evankelista-tarja-huuskonen/
ATTACH;FMTTYPE=image/png:https://ita-paijanne.svk.fi/wp-content/uploads/2023/12/Tarja.H.png
END:VEVENT
BEGIN:VEVENT
DTSTART;TZID=Europe/Helsinki:20250617T110000
DTEND;TZID=Europe/Helsinki:20250617T120000
DTSTAMP:20260423T003738
CREATED:20250528T191704Z
LAST-MODIFIED:20250528T191704Z
UID:3358-1750158000-1750161600@ita-paijanne.svk.fi
SUMMARY:Ti. 17.6. klo.11.00. ON AIKA RUKOILLA. Jumalan Sanaa ja rukousta.
DESCRIPTION:
URL:https://ita-paijanne.svk.fi/tapahtumat/ti-17-6-klo-11-00-on-aika-rukoilla-jumalan-sanaa-ja-rukousta/
END:VEVENT
BEGIN:VEVENT
DTSTART;TZID=Europe/Helsinki:20250624T110000
DTEND;TZID=Europe/Helsinki:20250624T120000
DTSTAMP:20260423T003738
CREATED:20250528T192142Z
LAST-MODIFIED:20250528T192142Z
UID:3360-1750762800-1750766400@ita-paijanne.svk.fi
SUMMARY:Ti.24.6. klo.11.00 ON AIKA RUKOILLA ISRAELIN PUOLESTA. Jouni Sinkkonen johdattelee rukoukseen.
DESCRIPTION:
URL:https://ita-paijanne.svk.fi/tapahtumat/ti-24-6-klo-11-00-on-aika-rukoilla-israelin-puolesta-jouni-sinkkonen-johdattelee-rukoukseen/
END:VEVENT
BEGIN:VEVENT
DTSTART;TZID=Europe/Helsinki:20250626T151000
DTEND;TZID=Europe/Helsinki:20250626T160000
DTSTAMP:20260423T003738
CREATED:20250528T192558Z
LAST-MODIFIED:20250621T190621Z
UID:3362-1750950600-1750953600@ita-paijanne.svk.fi
SUMMARY:To.26.6. klo.15.10 HARTAUS. Klo.15.-16.00 Elintarviketuotteiden jako.
DESCRIPTION:
URL:https://ita-paijanne.svk.fi/tapahtumat/to-26-6-klo-15-10-hartaus-klo-15-16-00-elintarviketuotteiden-jako/
ATTACH;FMTTYPE=image/jpeg:https://ita-paijanne.svk.fi/wp-content/uploads/2025/05/Leip.JAK_.jpg
END:VEVENT
BEGIN:VEVENT
DTSTART;TZID=Europe/Helsinki:20250629T110000
DTEND;TZID=Europe/Helsinki:20250629T130000
DTSTAMP:20260423T003738
CREATED:20250527T193643Z
LAST-MODIFIED:20250618T193132Z
UID:3351-1751194800-1751202000@ita-paijanne.svk.fi
SUMMARY:Su.29.6. klo.11.00. JUMALANPALVELUS\, evankelista Sari Matikainen
DESCRIPTION:
URL:https://ita-paijanne.svk.fi/tapahtumat/su-29-6-klo-11-00-jumalanpalvelus-evankelista-sari-matikainen/
ATTACH;FMTTYPE=image/jpeg:https://ita-paijanne.svk.fi/wp-content/uploads/2025/05/Sari.M.uusi_.jpg
END:VEVENT
END:VCALENDAR