BEGIN:VCALENDAR
VERSION:2.0
PRODID:-//It&auml;-P&auml;ij&auml;nteen Vapaaseurakunta - ECPv6.15.20//NONSGML v1.0//EN
CALSCALE:GREGORIAN
METHOD:PUBLISH
X-ORIGINAL-URL:https://ita-paijanne.svk.fi
X-WR-CALDESC:Tapahtumat It&auml;-P&auml;ij&auml;nteen Vapaaseurakunta
REFRESH-INTERVAL;VALUE=DURATION:PT1H
X-Robots-Tag:noindex
X-PUBLISHED-TTL:PT1H
BEGIN:VTIMEZONE
TZID:Europe/Helsinki
BEGIN:DAYLIGHT
TZOFFSETFROM:+0200
TZOFFSETTO:+0300
TZNAME:EEST
DTSTART:20240331T010000
END:DAYLIGHT
BEGIN:STANDARD
TZOFFSETFROM:+0300
TZOFFSETTO:+0200
TZNAME:EET
DTSTART:20241027T010000
END:STANDARD
BEGIN:DAYLIGHT
TZOFFSETFROM:+0200
TZOFFSETTO:+0300
TZNAME:EEST
DTSTART:20250330T010000
END:DAYLIGHT
BEGIN:STANDARD
TZOFFSETFROM:+0300
TZOFFSETTO:+0200
TZNAME:EET
DTSTART:20251026T010000
END:STANDARD
BEGIN:DAYLIGHT
TZOFFSETFROM:+0200
TZOFFSETTO:+0300
TZNAME:EEST
DTSTART:20260329T010000
END:DAYLIGHT
BEGIN:STANDARD
TZOFFSETFROM:+0300
TZOFFSETTO:+0200
TZNAME:EET
DTSTART:20261025T010000
END:STANDARD
END:VTIMEZONE
BEGIN:VEVENT
DTSTART;TZID=Europe/Helsinki:20250803T110000
DTEND;TZID=Europe/Helsinki:20250803T130000
DTSTAMP:20260422T215752
CREATED:20250618T170457Z
LAST-MODIFIED:20250723T185919Z
UID:3382-1754218800-1754226000@ita-paijanne.svk.fi
SUMMARY:Su. 3.8 klo.11.00 EHTOOLLISJUHLA.
DESCRIPTION:
URL:https://ita-paijanne.svk.fi/tapahtumat/su-3-8-klo-11-00-ehtoollisjuhla/
ATTACH;FMTTYPE=image/webp:https://ita-paijanne.svk.fi/wp-content/uploads/2022/05/risti-e1696008743298.webp
END:VEVENT
BEGIN:VEVENT
DTSTART;TZID=Europe/Helsinki:20250805T110000
DTEND;TZID=Europe/Helsinki:20250805T120000
DTSTAMP:20260422T215752
CREATED:20250719T200039Z
LAST-MODIFIED:20250719T201511Z
UID:3400-1754391600-1754395200@ita-paijanne.svk.fi
SUMMARY:Ti. 5.8  klo.11.00 ON AIKA RUKOILLA\, tutkitaan Sanaa ja rukoillaan.
DESCRIPTION:
URL:https://ita-paijanne.svk.fi/tapahtumat/ti-5-7-klo-11-00-on-aika-rukoilla-tutkitaan-sanaa-ja-rukoillaan/
END:VEVENT
BEGIN:VEVENT
DTSTART;TZID=Europe/Helsinki:20250807T151000
DTEND;TZID=Europe/Helsinki:20250807T160000
DTSTAMP:20260422T215752
CREATED:20250719T200422Z
LAST-MODIFIED:20250719T201424Z
UID:3403-1754579400-1754582400@ita-paijanne.svk.fi
SUMMARY:To.7.8 klo.15.10 HARTAUS. Klo.15.30-16.00 Elintarviketuotteiden jako.
DESCRIPTION:
URL:https://ita-paijanne.svk.fi/tapahtumat/to-7-7-klo-15-10-hartaus-klo-15-30-16-00-elintarviketuotteiden-jako/
ATTACH;FMTTYPE=image/jpeg:https://ita-paijanne.svk.fi/wp-content/uploads/2025/05/Leip.JAK_.jpg
END:VEVENT
BEGIN:VEVENT
DTSTART;TZID=Europe/Helsinki:20250810T110000
DTEND;TZID=Europe/Helsinki:20250810T130000
DTSTAMP:20260422T215752
CREATED:20250719T200740Z
LAST-MODIFIED:20250719T201330Z
UID:3405-1754823600-1754830800@ita-paijanne.svk.fi
SUMMARY:Su.10.8 klo.11.00 Jumalanpalvelus\, Teija ja Markku Veilo.
DESCRIPTION:
URL:https://ita-paijanne.svk.fi/tapahtumat/su-10-7-klo-11-00-jumalanpalvelus-teija-ja-markku-veilo/
ATTACH;FMTTYPE=image/jpeg:https://ita-paijanne.svk.fi/wp-content/uploads/2025/01/veilo.M.jpg
END:VEVENT
BEGIN:VEVENT
DTSTART;TZID=Europe/Helsinki:20250812T110000
DTEND;TZID=Europe/Helsinki:20250812T120000
DTSTAMP:20260422T215752
CREATED:20250730T155849Z
LAST-MODIFIED:20250730T155849Z
UID:3429-1754996400-1755000000@ita-paijanne.svk.fi
SUMMARY:Ti.12.8 klo.11.00  ON AIKA RUKOILLA. Tutkimme yhdessä Sanaa ja rukoillaan.
DESCRIPTION:
URL:https://ita-paijanne.svk.fi/tapahtumat/ti-12-8-klo-11-00-on-aika-rukoilla-tutkimme-yhdessa-sanaa-ja-rukoillaan/
ATTACH;FMTTYPE=image/jpeg:https://ita-paijanne.svk.fi/wp-content/uploads/2024/01/cropped-srk.Risti_-e1745322458898.jpg
END:VEVENT
BEGIN:VEVENT
DTSTART;TZID=Europe/Helsinki:20250816T110000
DTEND;TZID=Europe/Helsinki:20250816T120000
DTSTAMP:20260422T215752
CREATED:20250816T122540Z
LAST-MODIFIED:20250816T122540Z
UID:3459-1755342000-1755345600@ita-paijanne.svk.fi
SUMMARY:Ti. 16.9  klo.11.00  ON AIKA RUKOILLA!  Tutkitaan Sanaa ja rukoillaan.
DESCRIPTION:
URL:https://ita-paijanne.svk.fi/tapahtumat/ti-16-9-klo-11-00-on-aika-rukoilla-tutkitaan-sanaa-ja-rukoillaan/
END:VEVENT
BEGIN:VEVENT
DTSTART;TZID=Europe/Helsinki:20250816T110000
DTEND;TZID=Europe/Helsinki:20250816T120000
DTSTAMP:20260422T215752
CREATED:20250816T125731Z
LAST-MODIFIED:20250816T125731Z
UID:3478-1755342000-1755345600@ita-paijanne.svk.fi
SUMMARY:Ti.16.9  klo.11.00  ON AIKA RUKOILLA!  Jumalan Sanan tutkimista uhdessä ja rukoillaan eri asioiden puolesta!
DESCRIPTION:
URL:https://ita-paijanne.svk.fi/tapahtumat/ti-16-9-klo-11-00-on-aika-rukoilla-jumalan-sanan-tutkimista-uhdessa-ja-rukoillaan-eri-asioiden-puolesta/
END:VEVENT
BEGIN:VEVENT
DTSTART;TZID=Europe/Helsinki:20250816T110000
DTEND;TZID=Europe/Helsinki:20250816T120000
DTSTAMP:20260422T215752
CREATED:20250816T132630Z
LAST-MODIFIED:20250816T132630Z
UID:3480-1755342000-1755345600@ita-paijanne.svk.fi
SUMMARY:Ti. 16.9  klo.11.00  ON AIKA RUKOILLA!  Tutkitaan Sanaa ja rukoillaan.
DESCRIPTION:
URL:https://ita-paijanne.svk.fi/tapahtumat/ti-16-9-klo-11-00-on-aika-rukoilla-tutkitaan-sanaa-ja-rukoillaan-2/
ATTACH;FMTTYPE=image/jpeg:https://ita-paijanne.svk.fi/wp-content/uploads/2025/06/kyyhky.korj_.2.jpg
END:VEVENT
BEGIN:VEVENT
DTSTART;TZID=Europe/Helsinki:20250817T110000
DTEND;TZID=Europe/Helsinki:20250817T130000
DTSTAMP:20260422T215752
CREATED:20250719T202900Z
LAST-MODIFIED:20250730T161700Z
UID:3421-1755428400-1755435600@ita-paijanne.svk.fi
SUMMARY:Su.17.8 klo.11.00 Jumalanpalvelus\, Seppo Peltomäki.
DESCRIPTION:
URL:https://ita-paijanne.svk.fi/tapahtumat/su-17-8-klo-11-00-jumalanpalvelus-seppo-peltomaki-3/
ATTACH;FMTTYPE=image/jpeg:https://ita-paijanne.svk.fi/wp-content/uploads/2025/06/kyyhky.korj_.2.jpg
END:VEVENT
BEGIN:VEVENT
DTSTART;TZID=Europe/Helsinki:20250819T110000
DTEND;TZID=Europe/Helsinki:20250819T120000
DTSTAMP:20260422T215752
CREATED:20250730T160648Z
LAST-MODIFIED:20250730T162939Z
UID:3432-1755601200-1755604800@ita-paijanne.svk.fi
SUMMARY:Ti.19.8 klo.11.00. ON AIKA RUKOILLA !  Tutkitaan Sanaa ja rukoillaan.
DESCRIPTION:
URL:https://ita-paijanne.svk.fi/tapahtumat/ti-19-8-klo-11-00-on-aika-rukoilla-tutkitaan-sanaa-ja-rukoillaan/
END:VEVENT
BEGIN:VEVENT
DTSTART;TZID=Europe/Helsinki:20250821T151000
DTEND;TZID=Europe/Helsinki:20250821T160000
DTSTAMP:20260422T215752
CREATED:20250730T161114Z
LAST-MODIFIED:20250730T161114Z
UID:3434-1755789000-1755792000@ita-paijanne.svk.fi
SUMMARY:To.21.8 klo.15.10 HARTAUS. Klo.15.30- 16.00 E8lintarviketuotteiden jako.
DESCRIPTION:
URL:https://ita-paijanne.svk.fi/tapahtumat/to-21-8-klo-15-10-hartaus-klo-15-30-16-00-e8lintarviketuotteiden-jako/
ATTACH;FMTTYPE=image/png:https://ita-paijanne.svk.fi/wp-content/uploads/2023/12/eu.kassi_.kuva_.2-e1737638933492.png
END:VEVENT
BEGIN:VEVENT
DTSTART;TZID=Europe/Helsinki:20250824T180000
DTEND;TZID=Europe/Helsinki:20250824T200000
DTSTAMP:20260422T215752
CREATED:20250730T161431Z
LAST-MODIFIED:20250818T091743Z
UID:3436-1756058400-1756065600@ita-paijanne.svk.fi
SUMMARY:Su.24.8  klo.18.00 (huom.aika!) JUMALANPALVELUS\, puhuu Pauli Särkkä
DESCRIPTION:
URL:https://ita-paijanne.svk.fi/tapahtumat/su-24-8-klo-11-00-jumalanpalvelus-puhuu-pauli-sarkka/
ATTACH;FMTTYPE=image/jpeg:https://ita-paijanne.svk.fi/wp-content/uploads/2023/11/Alttaritaulu.jpg
END:VEVENT
BEGIN:VEVENT
DTSTART;TZID=Europe/Helsinki:20250826T110000
DTEND;TZID=Europe/Helsinki:20250826T120000
DTSTAMP:20260422T215752
CREATED:20250730T162346Z
LAST-MODIFIED:20250730T162346Z
UID:3438-1756206000-1756209600@ita-paijanne.svk.fi
SUMMARY:Ti.26.8 klo.11.00. ON AIKA RUKOILLA ISRAELIN PUOLESTA\, Jouni Sinkkonen johdattelee rukoukseen.
DESCRIPTION:
URL:https://ita-paijanne.svk.fi/tapahtumat/ti-26-8-klo-11-00-on-aika-rukoilla-israelin-puolesta-jouni-sinkkonen-johdattelee-rukoukseen/
END:VEVENT
BEGIN:VEVENT
DTSTART;TZID=Europe/Helsinki:20250831T110000
DTEND;TZID=Europe/Helsinki:20250831T130000
DTSTAMP:20260422T215752
CREATED:20250730T162717Z
LAST-MODIFIED:20250807T074514Z
UID:3440-1756638000-1756645200@ita-paijanne.svk.fi
SUMMARY:Su.31.8 klo.11.00  Jumalanpalvelus. Puhuu Veijo Grönholm.
DESCRIPTION:
URL:https://ita-paijanne.svk.fi/tapahtumat/su-31-8-klo-11-00-jumalanpalvelus/
ATTACH;FMTTYPE=image/jpeg:https://ita-paijanne.svk.fi/wp-content/uploads/2025/06/kyyhky.korj_.2.jpg
END:VEVENT
END:VCALENDAR