BEGIN:VCALENDAR
VERSION:2.0
PRODID:-//It&auml;-P&auml;ij&auml;nteen Vapaaseurakunta - ECPv6.15.20//NONSGML v1.0//EN
CALSCALE:GREGORIAN
METHOD:PUBLISH
X-ORIGINAL-URL:https://ita-paijanne.svk.fi
X-WR-CALDESC:Tapahtumat It&auml;-P&auml;ij&auml;nteen Vapaaseurakunta
REFRESH-INTERVAL;VALUE=DURATION:PT1H
X-Robots-Tag:noindex
X-PUBLISHED-TTL:PT1H
BEGIN:VTIMEZONE
TZID:Europe/Helsinki
BEGIN:DAYLIGHT
TZOFFSETFROM:+0200
TZOFFSETTO:+0300
TZNAME:EEST
DTSTART:20240331T010000
END:DAYLIGHT
BEGIN:STANDARD
TZOFFSETFROM:+0300
TZOFFSETTO:+0200
TZNAME:EET
DTSTART:20241027T010000
END:STANDARD
BEGIN:DAYLIGHT
TZOFFSETFROM:+0200
TZOFFSETTO:+0300
TZNAME:EEST
DTSTART:20250330T010000
END:DAYLIGHT
BEGIN:STANDARD
TZOFFSETFROM:+0300
TZOFFSETTO:+0200
TZNAME:EET
DTSTART:20251026T010000
END:STANDARD
BEGIN:DAYLIGHT
TZOFFSETFROM:+0200
TZOFFSETTO:+0300
TZNAME:EEST
DTSTART:20260329T010000
END:DAYLIGHT
BEGIN:STANDARD
TZOFFSETFROM:+0300
TZOFFSETTO:+0200
TZNAME:EET
DTSTART:20261025T010000
END:STANDARD
END:VTIMEZONE
BEGIN:VEVENT
DTSTART;TZID=Europe/Helsinki:20251102T110000
DTEND;TZID=Europe/Helsinki:20251102T130000
DTSTAMP:20260422T171452
CREATED:20251003T190330Z
LAST-MODIFIED:20251003T190330Z
UID:3514-1762081200-1762088400@ita-paijanne.svk.fi
SUMMARY:2.11  klo.11.00. EHTOOLLISJUHLA.
DESCRIPTION:
URL:https://ita-paijanne.svk.fi/tapahtumat/2-11-klo-11-00-ehtoollisjuhla/
ATTACH;FMTTYPE=image/jpeg:https://ita-paijanne.svk.fi/wp-content/uploads/2023/11/Alttaritaulu.jpg
END:VEVENT
BEGIN:VEVENT
DTSTART;TZID=Europe/Helsinki:20251104T110000
DTEND;TZID=Europe/Helsinki:20251104T120000
DTSTAMP:20260422T171452
CREATED:20251023T120011Z
LAST-MODIFIED:20251023T120011Z
UID:3532-1762254000-1762257600@ita-paijanne.svk.fi
SUMMARY:Ti. 4.11  klo.11.00  ON AIKA RUKOILLA!  Luetaan ja tutkitaan yhdessä Jumalan Sanaa ja rukoillaan.
DESCRIPTION:
URL:https://ita-paijanne.svk.fi/tapahtumat/ti-4-11-klo-11-00-on-aika-rukoilla-luetaan-ja-tutkitaan-yhdessa-jumalan-sanaa-ja-rukoillaan/
END:VEVENT
BEGIN:VEVENT
DTSTART;TZID=Europe/Helsinki:20251109T110000
DTEND;TZID=Europe/Helsinki:20251109T130000
DTSTAMP:20260422T171452
CREATED:20251023T114938Z
LAST-MODIFIED:20251023T114938Z
UID:3528-1762686000-1762693200@ita-paijanne.svk.fi
SUMMARY:Su. 9.11  klo.11.00  JUMALANPALVELUS\, puhuvat: Aki ja Nina Liimatainen
DESCRIPTION:
URL:https://ita-paijanne.svk.fi/tapahtumat/su-9-11-klo-11-00-jumalanpalvelus-puhuvat-aki-ja-nina-liimatainen/
ATTACH;FMTTYPE=image/jpeg:https://ita-paijanne.svk.fi/wp-content/uploads/2025/10/Aki.Nina_.jpg
END:VEVENT
BEGIN:VEVENT
DTSTART;TZID=Europe/Helsinki:20251111T110000
DTEND;TZID=Europe/Helsinki:20251111T120000
DTSTAMP:20260422T171452
CREATED:20251023T120841Z
LAST-MODIFIED:20251023T120841Z
UID:3534-1762858800-1762862400@ita-paijanne.svk.fi
SUMMARY:Ti. 11.11  klo.11.00  ON AIKA RUKOILLA!  Tutkitaan ja luetaan yhdessä Jumalan Sanaa ja rukoillaan.
DESCRIPTION:
URL:https://ita-paijanne.svk.fi/tapahtumat/ti-11-11-klo-11-00-on-aika-rukoilla-tutkitaan-ja-luetaan-yhdessa-jumalan-sanaa-ja-rukoillaan/
END:VEVENT
BEGIN:VEVENT
DTSTART;TZID=Europe/Helsinki:20251111T110000
DTEND;TZID=Europe/Helsinki:20251111T130000
DTSTAMP:20260422T171452
CREATED:20251023T121027Z
LAST-MODIFIED:20251023T121955Z
UID:3536-1762858800-1762866000@ita-paijanne.svk.fi
SUMMARY:Su. 16.11  klo.11.00  JUMALANPALVELUS\, puhuu Harri Nuutinen.
DESCRIPTION:
URL:https://ita-paijanne.svk.fi/tapahtumat/su-16-11-klo-11-00-jumalanpalvelus-puhuu-harri-nuutinen/
ATTACH;FMTTYPE=image/jpeg:https://ita-paijanne.svk.fi/wp-content/uploads/2023/11/Alttaritaulu.jpg
END:VEVENT
BEGIN:VEVENT
DTSTART;TZID=Europe/Helsinki:20251118T110000
DTEND;TZID=Europe/Helsinki:20251118T120000
DTSTAMP:20260422T171452
CREATED:20251023T121339Z
LAST-MODIFIED:20251023T121339Z
UID:3538-1763463600-1763467200@ita-paijanne.svk.fi
SUMMARY:Ti. 18.11  klo.11.00   ON AIKA RUKOILLA!  Luetaan ja tutkitaan yhdessä Jumalan Sanaa.
DESCRIPTION:
URL:https://ita-paijanne.svk.fi/tapahtumat/ti-18-11-klo-11-00-on-aika-rukoilla-luetaan-ja-tutkitaan-yhdessa-jumalan-sanaa/
ATTACH;FMTTYPE=image/jpeg:https://ita-paijanne.svk.fi/wp-content/uploads/2023/11/kyyhky.korj_.jpg
END:VEVENT
BEGIN:VEVENT
DTSTART;TZID=Europe/Helsinki:20251123T110000
DTEND;TZID=Europe/Helsinki:20251123T130000
DTSTAMP:20260422T171452
CREATED:20251023T121710Z
LAST-MODIFIED:20251023T121710Z
UID:3540-1763895600-1763902800@ita-paijanne.svk.fi
SUMMARY:Su. 23.11  klo.11.00  JUMALANPALVELUS\, puhuvat Heikki ja Pirjo Komppa.
DESCRIPTION:
URL:https://ita-paijanne.svk.fi/tapahtumat/su-23-11-klo-11-00-jumalanpalvelus-puhuvat-heikki-ja-pirjo-komppa/
ATTACH;FMTTYPE=image/jpeg:https://ita-paijanne.svk.fi/wp-content/uploads/2024/01/cropped-srk.Risti_-e1745322458898.jpg
END:VEVENT
BEGIN:VEVENT
DTSTART;TZID=Europe/Helsinki:20251125T110000
DTEND;TZID=Europe/Helsinki:20251125T120000
DTSTAMP:20260422T171452
CREATED:20251023T122524Z
LAST-MODIFIED:20251023T122524Z
UID:3542-1764068400-1764072000@ita-paijanne.svk.fi
SUMMARY:Ti. 25.11  klo.11.00  ON AIKA RUKOILLA !  Tutkitaan yhdessä Jumalan Sanaa ja rukoillaan.
DESCRIPTION:
URL:https://ita-paijanne.svk.fi/tapahtumat/ti-25-11-klo-11-00-on-aika-rukoilla-tutkitaan-yhdessa-jumalan-sanaa-ja-rukoillaan/
END:VEVENT
BEGIN:VEVENT
DTSTART;TZID=Europe/Helsinki:20251129T110000
DTEND;TZID=Europe/Helsinki:20251129T130000
DTSTAMP:20260422T171452
CREATED:20251023T123739Z
LAST-MODIFIED:20251023T123808Z
UID:3544-1764414000-1764421200@ita-paijanne.svk.fi
SUMMARY:La. 29.11 klo.11.00  JOULUMYYJÄISET klo.11.00 -13.00  tarjolla leivonnaisia ym.
DESCRIPTION:
URL:https://ita-paijanne.svk.fi/tapahtumat/la-29-11-klo-11-00-joulumyyjaiset-klo-11-00-13-00-tarjolla-leivonnaisia-ym/
ATTACH;FMTTYPE=image/png:https://ita-paijanne.svk.fi/wp-content/uploads/2025/10/nayttokuv.BB_.png
END:VEVENT
BEGIN:VEVENT
DTSTART;TZID=Europe/Helsinki:20251130T110000
DTEND;TZID=Europe/Helsinki:20251130T130000
DTSTAMP:20260422T171452
CREATED:20251023T124326Z
LAST-MODIFIED:20251118T180816Z
UID:3547-1764500400-1764507600@ita-paijanne.svk.fi
SUMMARY:Su.30.11 klo.11.00  EHTOOLLISJUHLA\, puhuu Veikko Harjula.
DESCRIPTION:
URL:https://ita-paijanne.svk.fi/tapahtumat/su-7-12-klo-11-00-ehtoollisjuhla/
ATTACH;FMTTYPE=image/webp:https://ita-paijanne.svk.fi/wp-content/uploads/2025/10/Risti.HYv_-e1761223344760.webp
END:VEVENT
END:VCALENDAR