BEGIN:VCALENDAR
VERSION:2.0
PRODID:-//It&auml;-P&auml;ij&auml;nteen Vapaaseurakunta - ECPv6.15.20//NONSGML v1.0//EN
CALSCALE:GREGORIAN
METHOD:PUBLISH
X-ORIGINAL-URL:https://ita-paijanne.svk.fi
X-WR-CALDESC:Tapahtumat It&auml;-P&auml;ij&auml;nteen Vapaaseurakunta
REFRESH-INTERVAL;VALUE=DURATION:PT1H
X-Robots-Tag:noindex
X-PUBLISHED-TTL:PT1H
BEGIN:VTIMEZONE
TZID:Europe/Helsinki
BEGIN:DAYLIGHT
TZOFFSETFROM:+0200
TZOFFSETTO:+0300
TZNAME:EEST
DTSTART:20240331T010000
END:DAYLIGHT
BEGIN:STANDARD
TZOFFSETFROM:+0300
TZOFFSETTO:+0200
TZNAME:EET
DTSTART:20241027T010000
END:STANDARD
BEGIN:DAYLIGHT
TZOFFSETFROM:+0200
TZOFFSETTO:+0300
TZNAME:EEST
DTSTART:20250330T010000
END:DAYLIGHT
BEGIN:STANDARD
TZOFFSETFROM:+0300
TZOFFSETTO:+0200
TZNAME:EET
DTSTART:20251026T010000
END:STANDARD
BEGIN:DAYLIGHT
TZOFFSETFROM:+0200
TZOFFSETTO:+0300
TZNAME:EEST
DTSTART:20260329T010000
END:DAYLIGHT
BEGIN:STANDARD
TZOFFSETFROM:+0300
TZOFFSETTO:+0200
TZNAME:EET
DTSTART:20261025T010000
END:STANDARD
END:VTIMEZONE
BEGIN:VEVENT
DTSTART;TZID=Europe/Helsinki:20251202T110000
DTEND;TZID=Europe/Helsinki:20251202T120000
DTSTAMP:20260422T155146
CREATED:20251118T164138Z
LAST-MODIFIED:20251118T164138Z
UID:3554-1764673200-1764676800@ita-paijanne.svk.fi
SUMMARY:Ti. 2.12 klo.11.00. ON AIKA RUKOILLA\, Jumalan Sanan tutkimista yhdessä ja rukoillaan.
DESCRIPTION:
URL:https://ita-paijanne.svk.fi/tapahtumat/ti-2-12-klo-11-00-on-aika-rukoilla-jumalan-sanan-tutkimista-yhdessa-ja-rukoillaan/
ATTACH;FMTTYPE=image/jpeg:https://ita-paijanne.svk.fi/wp-content/uploads/2025/08/Ruk.Kad_.A.jpg
END:VEVENT
BEGIN:VEVENT
DTSTART;TZID=Europe/Helsinki:20251207T110000
DTEND;TZID=Europe/Helsinki:20251207T130000
DTSTAMP:20260422T155146
CREATED:20251118T164702Z
LAST-MODIFIED:20251118T164702Z
UID:3556-1765105200-1765112400@ita-paijanne.svk.fi
SUMMARY:Su.7.12 klo.11.00 JUMALANPALVELUS\, puhuvat: Ismo Keskitapio ja Raija Hakulinen.
DESCRIPTION:
URL:https://ita-paijanne.svk.fi/tapahtumat/su-7-12-klo-11-00-jumalanpalvelus-puhuvat-ismo-keskitapio-ja-raija-hakulinen/
END:VEVENT
BEGIN:VEVENT
DTSTART;TZID=Europe/Helsinki:20251209T110000
DTEND;TZID=Europe/Helsinki:20251209T120000
DTSTAMP:20260422T155146
CREATED:20251118T165903Z
LAST-MODIFIED:20251118T165903Z
UID:3559-1765278000-1765281600@ita-paijanne.svk.fi
SUMMARY:Ti.9.12 klo.11.00 ON AIKA RUKOILLA\, Jumalan Sanan tutkimista ja rukousta.
DESCRIPTION:
URL:https://ita-paijanne.svk.fi/tapahtumat/ti-9-12-klo-11-00-on-aika-rukoilla-jumalan-sanan-tutkimista-ja-rukousta/
END:VEVENT
BEGIN:VEVENT
DTSTART;TZID=Europe/Helsinki:20251211T150000
DTEND;TZID=Europe/Helsinki:20251211T160000
DTSTAMP:20260422T155146
CREATED:20251201T205743Z
LAST-MODIFIED:20251201T205743Z
UID:3577-1765465200-1765468800@ita-paijanne.svk.fi
SUMMARY:To.11.12. klo.15.00. Jaetaan elintarvikkeita kerta-luenteisena tapahtuma.
DESCRIPTION:
URL:https://ita-paijanne.svk.fi/tapahtumat/to-11-12-klo-15-00-jaetaan-elintarvikkeita-kerta-luenteisena-tapahtuma/
END:VEVENT
BEGIN:VEVENT
DTSTART;TZID=Europe/Helsinki:20251214T110000
DTEND;TZID=Europe/Helsinki:20251214T130000
DTSTAMP:20260422T155146
CREATED:20251118T173301Z
LAST-MODIFIED:20251118T173301Z
UID:3561-1765710000-1765717200@ita-paijanne.svk.fi
SUMMARY:Su.14.12 klo.11.00 JUMALANPALVELUS\, puhuu Veijo Grönholm.
DESCRIPTION:
URL:https://ita-paijanne.svk.fi/tapahtumat/su-14-12-klo-11-00-jumalanpalvelus-puhuu-veijo-gronholm/
END:VEVENT
BEGIN:VEVENT
DTSTART;TZID=Europe/Helsinki:20251216T110000
DTEND;TZID=Europe/Helsinki:20251216T120000
DTSTAMP:20260422T155146
CREATED:20251118T173736Z
LAST-MODIFIED:20251118T173736Z
UID:3563-1765882800-1765886400@ita-paijanne.svk.fi
SUMMARY:Ti.16.12 klo.11.00    ON AIKA RUKOILLA\, tutkitaan Jumalan Sanaa ja rukoillaan.
DESCRIPTION:
URL:https://ita-paijanne.svk.fi/tapahtumat/ti-16-12-klo-11-00-on-aika-rukoilla-tutkitaan-jumalan-sanaa-ja-rukoillaan/
ATTACH;FMTTYPE=image/jpeg:https://ita-paijanne.svk.fi/wp-content/uploads/2025/06/kyyhky.korj_.2.jpg
END:VEVENT
BEGIN:VEVENT
DTSTART;TZID=Europe/Helsinki:20251221T130000
DTEND;TZID=Europe/Helsinki:20251221T150000
DTSTAMP:20260422T155146
CREATED:20251118T174436Z
LAST-MODIFIED:20251201T210252Z
UID:3566-1766322000-1766329200@ita-paijanne.svk.fi
SUMMARY:Su.21.12  klo.13.00. JOULUJUHLA\, puhuu Markku Mäkinen. Lopuksi syömme joulupuuroa!
DESCRIPTION:
URL:https://ita-paijanne.svk.fi/tapahtumat/su-21-12-klo-11-00-joulujuhla-puhuu-markku-makinen-lopuksi-syomme-joulupuuroa/
ATTACH;FMTTYPE=image/png:https://ita-paijanne.svk.fi/wp-content/uploads/2022/11/Jo.Tahti_-e1696009104675.png
END:VEVENT
BEGIN:VEVENT
DTSTART;TZID=Europe/Helsinki:20251223T110000
DTEND;TZID=Europe/Helsinki:20251223T120000
DTSTAMP:20260422T155146
CREATED:20251229T115457Z
LAST-MODIFIED:20251229T115457Z
UID:3597-1766487600-1766491200@ita-paijanne.svk.fi
SUMMARY:Ti. 20.1 klo.11.00    ON AIKA RUKOILLA !    Jumalan Sanan tutkimista ja rukousta yhdessä.
DESCRIPTION:
URL:https://ita-paijanne.svk.fi/tapahtumat/ti-20-1-klo-11-00-on-aika-rukoilla-jumalan-sanan-tutkimista-ja-rukousta-yhdessa/
END:VEVENT
BEGIN:VEVENT
DTSTART;TZID=Europe/Helsinki:20251228T110000
DTEND;TZID=Europe/Helsinki:20251228T130000
DTSTAMP:20260422T155146
CREATED:20251118T175453Z
LAST-MODIFIED:20251118T175453Z
UID:3570-1766919600-1766926800@ita-paijanne.svk.fi
SUMMARY:Su.28.12. Klo.11.00. Jumalanpalvelus\, puhuu Tuula Leppämäki.
DESCRIPTION:
URL:https://ita-paijanne.svk.fi/tapahtumat/su-28-12-klo-11-00-jumalanpalvelus-puhuu-tuula-leppamaki/
ATTACH;FMTTYPE=image/jpeg:https://ita-paijanne.svk.fi/wp-content/uploads/2024/01/cropped-srk.Risti_-e1745322458898.jpg
END:VEVENT
BEGIN:VEVENT
DTSTART;TZID=Europe/Helsinki:20251230T110000
DTEND;TZID=Europe/Helsinki:20251230T120000
DTSTAMP:20260422T155146
CREATED:20251118T175135Z
LAST-MODIFIED:20251118T175813Z
UID:3568-1767092400-1767096000@ita-paijanne.svk.fi
SUMMARY:Ti.30.12  klo.11.00 ON AIKA RUKOILLA ISRAELIN PUOLESTA! Jouni Sinkkonen johdattelee rukoukseen.
DESCRIPTION:
URL:https://ita-paijanne.svk.fi/tapahtumat/ti-23-12-klo-11-00-on-aika-rukoilla-israelin-puolesta-jouni-sinkkonen-johdattelee-rukoukseen/
END:VEVENT
END:VCALENDAR