BEGIN:VCALENDAR
VERSION:2.0
PRODID:-//It&auml;-P&auml;ij&auml;nteen Vapaaseurakunta - ECPv6.15.20//NONSGML v1.0//EN
CALSCALE:GREGORIAN
METHOD:PUBLISH
X-ORIGINAL-URL:https://ita-paijanne.svk.fi
X-WR-CALDESC:Tapahtumat It&auml;-P&auml;ij&auml;nteen Vapaaseurakunta
REFRESH-INTERVAL;VALUE=DURATION:PT1H
X-Robots-Tag:noindex
X-PUBLISHED-TTL:PT1H
BEGIN:VTIMEZONE
TZID:Europe/Helsinki
BEGIN:DAYLIGHT
TZOFFSETFROM:+0200
TZOFFSETTO:+0300
TZNAME:EEST
DTSTART:20240331T010000
END:DAYLIGHT
BEGIN:STANDARD
TZOFFSETFROM:+0300
TZOFFSETTO:+0200
TZNAME:EET
DTSTART:20241027T010000
END:STANDARD
BEGIN:DAYLIGHT
TZOFFSETFROM:+0200
TZOFFSETTO:+0300
TZNAME:EEST
DTSTART:20250330T010000
END:DAYLIGHT
BEGIN:STANDARD
TZOFFSETFROM:+0300
TZOFFSETTO:+0200
TZNAME:EET
DTSTART:20251026T010000
END:STANDARD
BEGIN:DAYLIGHT
TZOFFSETFROM:+0200
TZOFFSETTO:+0300
TZNAME:EEST
DTSTART:20260329T010000
END:DAYLIGHT
BEGIN:STANDARD
TZOFFSETFROM:+0300
TZOFFSETTO:+0200
TZNAME:EET
DTSTART:20261025T010000
END:STANDARD
END:VTIMEZONE
BEGIN:VEVENT
DTSTART;TZID=Europe/Helsinki:20251111T110000
DTEND;TZID=Europe/Helsinki:20251111T130000
DTSTAMP:20260420T225605
CREATED:20251023T121027Z
LAST-MODIFIED:20251023T121955Z
UID:3536-1762858800-1762866000@ita-paijanne.svk.fi
SUMMARY:Su. 16.11  klo.11.00  JUMALANPALVELUS\, puhuu Harri Nuutinen.
DESCRIPTION:
URL:https://ita-paijanne.svk.fi/tapahtumat/su-16-11-klo-11-00-jumalanpalvelus-puhuu-harri-nuutinen/
ATTACH;FMTTYPE=image/jpeg:https://ita-paijanne.svk.fi/wp-content/uploads/2023/11/Alttaritaulu.jpg
END:VEVENT
BEGIN:VEVENT
DTSTART;TZID=Europe/Helsinki:20251111T110000
DTEND;TZID=Europe/Helsinki:20251111T120000
DTSTAMP:20260420T225605
CREATED:20251023T120841Z
LAST-MODIFIED:20251023T120841Z
UID:3534-1762858800-1762862400@ita-paijanne.svk.fi
SUMMARY:Ti. 11.11  klo.11.00  ON AIKA RUKOILLA!  Tutkitaan ja luetaan yhdessä Jumalan Sanaa ja rukoillaan.
DESCRIPTION:
URL:https://ita-paijanne.svk.fi/tapahtumat/ti-11-11-klo-11-00-on-aika-rukoilla-tutkitaan-ja-luetaan-yhdessa-jumalan-sanaa-ja-rukoillaan/
END:VEVENT
BEGIN:VEVENT
DTSTART;TZID=Europe/Helsinki:20251109T110000
DTEND;TZID=Europe/Helsinki:20251109T130000
DTSTAMP:20260420T225605
CREATED:20251023T114938Z
LAST-MODIFIED:20251023T114938Z
UID:3528-1762686000-1762693200@ita-paijanne.svk.fi
SUMMARY:Su. 9.11  klo.11.00  JUMALANPALVELUS\, puhuvat: Aki ja Nina Liimatainen
DESCRIPTION:
URL:https://ita-paijanne.svk.fi/tapahtumat/su-9-11-klo-11-00-jumalanpalvelus-puhuvat-aki-ja-nina-liimatainen/
ATTACH;FMTTYPE=image/jpeg:https://ita-paijanne.svk.fi/wp-content/uploads/2025/10/Aki.Nina_.jpg
END:VEVENT
BEGIN:VEVENT
DTSTART;TZID=Europe/Helsinki:20251104T110000
DTEND;TZID=Europe/Helsinki:20251104T120000
DTSTAMP:20260420T225605
CREATED:20251023T120011Z
LAST-MODIFIED:20251023T120011Z
UID:3532-1762254000-1762257600@ita-paijanne.svk.fi
SUMMARY:Ti. 4.11  klo.11.00  ON AIKA RUKOILLA!  Luetaan ja tutkitaan yhdessä Jumalan Sanaa ja rukoillaan.
DESCRIPTION:
URL:https://ita-paijanne.svk.fi/tapahtumat/ti-4-11-klo-11-00-on-aika-rukoilla-luetaan-ja-tutkitaan-yhdessa-jumalan-sanaa-ja-rukoillaan/
END:VEVENT
BEGIN:VEVENT
DTSTART;TZID=Europe/Helsinki:20251102T110000
DTEND;TZID=Europe/Helsinki:20251102T130000
DTSTAMP:20260420T225605
CREATED:20251003T190330Z
LAST-MODIFIED:20251003T190330Z
UID:3514-1762081200-1762088400@ita-paijanne.svk.fi
SUMMARY:2.11  klo.11.00. EHTOOLLISJUHLA.
DESCRIPTION:
URL:https://ita-paijanne.svk.fi/tapahtumat/2-11-klo-11-00-ehtoollisjuhla/
ATTACH;FMTTYPE=image/jpeg:https://ita-paijanne.svk.fi/wp-content/uploads/2023/11/Alttaritaulu.jpg
END:VEVENT
BEGIN:VEVENT
DTSTART;TZID=Europe/Helsinki:20251028T110000
DTEND;TZID=Europe/Helsinki:20251028T120000
DTSTAMP:20260420T225605
CREATED:20251004T161748Z
LAST-MODIFIED:20251004T161748Z
UID:3518-1761649200-1761652800@ita-paijanne.svk.fi
SUMMARY:Ti. 28.10 klo.11.00 "ON AIKA RUKOILLA ISRAELIN PUOLESTA" Jouni Sinkkonen johdattelee rukoukseen.9
DESCRIPTION:
URL:https://ita-paijanne.svk.fi/tapahtumat/ti-28-10-klo-11-00-on-aika-rukoilla-israelin-puolesta-jouni-sinkkonen-johdattelee-rukoukseen-9/
END:VEVENT
BEGIN:VEVENT
DTSTART;TZID=Europe/Helsinki:20251026T130000
DTEND;TZID=Europe/Helsinki:20251026T150000
DTSTAMP:20260420T225605
CREATED:20250915T123239Z
LAST-MODIFIED:20250915T123439Z
UID:3500-1761483600-1761490800@ita-paijanne.svk.fi
SUMMARY:Su.26.10  klo.13.00 Seurakunnan sääntömääräinen syksyn vuosikokous. Käsitellään säännoissä olevat asiat. (vain srk:n jäsenille)
DESCRIPTION:
URL:https://ita-paijanne.svk.fi/tapahtumat/su-26-10-klo-13-00-seurakunnan-saantomaarainen-syksyn-vuosikokous-kasitellaan-saannoissa-olevat-asiat-vain-srkn-jasenille/
ATTACH;FMTTYPE=image/png:https://ita-paijanne.svk.fi/wp-content/uploads/2022/01/Raamattu-on-kuin-kompassi-ja-kartta-300x256-1.png
END:VEVENT
BEGIN:VEVENT
DTSTART;TZID=Europe/Helsinki:20251021T110000
DTEND;TZID=Europe/Helsinki:20251021T110000
DTSTAMP:20260420T225605
CREATED:20251004T161319Z
LAST-MODIFIED:20251004T162109Z
UID:3516-1761044400-1761044400@ita-paijanne.svk.fi
SUMMARY:Ti. 21.10  klo.11.00 "ON AIKA RUKOILLA" Jumalan Sanaa ja rukousta.l
DESCRIPTION:
URL:https://ita-paijanne.svk.fi/tapahtumat/ti-28-10-klo-11-00-on-aika-rukoilla-jumalan-sanaa-ja-rukousta-l/
ATTACH;FMTTYPE=image/jpeg:https://ita-paijanne.svk.fi/wp-content/uploads/2025/08/Ruk.Kad_.A.jpg
END:VEVENT
BEGIN:VEVENT
DTSTART;TZID=Europe/Helsinki:20251019T110000
DTEND;TZID=Europe/Helsinki:20251019T130000
DTSTAMP:20260420T225605
CREATED:20250915T122928Z
LAST-MODIFIED:20251015T075502Z
UID:3497-1760871600-1760878800@ita-paijanne.svk.fi
SUMMARY:Su. 19.10  klo.11.00 Jumalanpalvelus\, puhuu Veijo Heikkilä
DESCRIPTION:
URL:https://ita-paijanne.svk.fi/tapahtumat/su-19-10-klo-11-00-jumalanpalvelus-puhuu-veijo-heikkila/
END:VEVENT
BEGIN:VEVENT
DTSTART;TZID=Europe/Helsinki:20251014T110000
DTEND;TZID=Europe/Helsinki:20251014T120000
DTSTAMP:20260420T225605
CREATED:20250915T123729Z
LAST-MODIFIED:20250915T123729Z
UID:3503-1760439600-1760443200@ita-paijanne.svk.fi
SUMMARY:Ti. 14.10 klo.11.00  ON AIKA RUKOILLA. Rukoillaan ja luetaan Sanaa yhdessä. Tule sinäkin!
DESCRIPTION:
URL:https://ita-paijanne.svk.fi/tapahtumat/ti-14-10-klo-11-00-on-aika-rukoilla-rukoillaan-ja-luetaan-sanaa-yhdessa-tule-sinakin/
END:VEVENT
BEGIN:VEVENT
DTSTART;TZID=Europe/Helsinki:20251012T110000
DTEND;TZID=Europe/Helsinki:20251012T130000
DTSTAMP:20260420T225605
CREATED:20250915T122635Z
LAST-MODIFIED:20251003T185654Z
UID:3495-1760266800-1760274000@ita-paijanne.svk.fi
SUMMARY:Su.12.10 klo.13.00 Jumalanpalvelus\, Tienaukaisijat- järjestöstä puhujia ja laulajia.
DESCRIPTION:
URL:https://ita-paijanne.svk.fi/tapahtumat/su-12-10-klo-11-00-jumalanpalvelus-tienaukaisijat-jarjestosta-puhujia-ja-laulajia/
ATTACH;FMTTYPE=image/png:https://ita-paijanne.svk.fi/wp-content/uploads/2023/11/uusi.risti_.png
END:VEVENT
BEGIN:VEVENT
DTSTART;TZID=Europe/Helsinki:20251007T110000
DTEND;TZID=Europe/Helsinki:20251007T120000
DTSTAMP:20260420T225605
CREATED:20250915T121930Z
LAST-MODIFIED:20251015T075007Z
UID:3492-1759834800-1759838400@ita-paijanne.svk.fi
SUMMARY:Ti. 7.10  klo.11.00  ON AIKA RUKOILLA! Tutkitaan yhdessä Jumalan Sanaa ja rukoillaan.
DESCRIPTION:
URL:https://ita-paijanne.svk.fi/tapahtumat/ti-7-5-klo-11-00-on-aika-rukoilla-tutkitaan-yhdessa-jumalan-sanaa-ja-rukoillaan/
ATTACH;FMTTYPE=image/jpeg:https://ita-paijanne.svk.fi/wp-content/uploads/2025/06/kyyhky.korj_.2.jpg
END:VEVENT
BEGIN:VEVENT
DTSTART;TZID=Europe/Helsinki:20251005T110000
DTEND;TZID=Europe/Helsinki:20251005T130000
DTSTAMP:20260420T225605
CREATED:20250915T121559Z
LAST-MODIFIED:20251003T185821Z
UID:3490-1759662000-1759669200@ita-paijanne.svk.fi
SUMMARY:Su.5.10  klo.11.00. EHTOOLLISJUHLA\, puhuu Arto Manninen
DESCRIPTION:
URL:https://ita-paijanne.svk.fi/tapahtumat/su-5-10-ehtoollisjuhla/
END:VEVENT
BEGIN:VEVENT
DTSTART;TZID=Europe/Helsinki:20250930T110000
DTEND;TZID=Europe/Helsinki:20250930T120000
DTSTAMP:20260420T225605
CREATED:20250816T124536Z
LAST-MODIFIED:20250816T124536Z
UID:3474-1759230000-1759233600@ita-paijanne.svk.fi
SUMMARY:Ti. 30.9  klo.11.00  ON AIKA RUKOILLA!  Tutkitaan Sanaa ja rukoillaan.
DESCRIPTION:
URL:https://ita-paijanne.svk.fi/tapahtumat/ti-30-9-klo-11-00-on-aika-rukoilla-tutkitaan-sanaa-ja-rukoillaan/
END:VEVENT
BEGIN:VEVENT
DTSTART;TZID=Europe/Helsinki:20250928T110000
DTEND;TZID=Europe/Helsinki:20250928T130000
DTSTAMP:20260420T225605
CREATED:20250816T124223Z
LAST-MODIFIED:20250924T155812Z
UID:3472-1759057200-1759064400@ita-paijanne.svk.fi
SUMMARY:Su. 28.9 klo.11.00 JUMALANPALVELUS\, Olavi Riikonen. Rukoillaan sairaiden puolesta!
DESCRIPTION:
URL:https://ita-paijanne.svk.fi/tapahtumat/su-28-9-klo-11-00-jumalanpalvelus/
END:VEVENT
BEGIN:VEVENT
DTSTART;TZID=Europe/Helsinki:20250923T110000
DTEND;TZID=Europe/Helsinki:20250923T120000
DTSTAMP:20260420T225605
CREATED:20250816T124019Z
LAST-MODIFIED:20250816T124019Z
UID:3469-1758625200-1758628800@ita-paijanne.svk.fi
SUMMARY:Ti. 23.9  klo.11.00  ON AIKA RUKOILLA  Jumalan Sanan tutkimista yhdessä ja rukoillaan!
DESCRIPTION:
URL:https://ita-paijanne.svk.fi/tapahtumat/ti-23-9-klo-11-00-on-aika-rukoilla-jumalan-sanan-tutkimista-yhdessa-ja-rukoillaan/
ATTACH;FMTTYPE=image/jpeg:https://ita-paijanne.svk.fi/wp-content/uploads/2025/08/Ruk.Kad_.A.jpg
END:VEVENT
BEGIN:VEVENT
DTSTART;TZID=Europe/Helsinki:20250921T110000
DTEND;TZID=Europe/Helsinki:20250921T130000
DTSTAMP:20260420T225605
CREATED:20250816T123122Z
LAST-MODIFIED:20250816T123550Z
UID:3463-1758452400-1758459600@ita-paijanne.svk.fi
SUMMARY:Su. 21.9 klo.11.00  JUMALANPALVELUS\, puhuu Matti Vataja
DESCRIPTION:
URL:https://ita-paijanne.svk.fi/tapahtumat/su-21-9-klo-11-00-jumalanpalvelus-puhuu-matti-vataja/
END:VEVENT
BEGIN:VEVENT
DTSTART;TZID=Europe/Helsinki:20250918T151000
DTEND;TZID=Europe/Helsinki:20250918T160000
DTSTAMP:20260420T225605
CREATED:20250816T122814Z
LAST-MODIFIED:20250816T122814Z
UID:3461-1758208200-1758211200@ita-paijanne.svk.fi
SUMMARY:To. 18.9  klo. 15.10  HARTAUSHETKI.  klo. 15.30-16.00  jaetaan elintarviketuotteita.
DESCRIPTION:
URL:https://ita-paijanne.svk.fi/tapahtumat/to-18-9-klo-15-10-hartaushetki-klo-15-30-16-00-jaetaan-elintarviketuotteita/
ATTACH;FMTTYPE=image/jpeg:https://ita-paijanne.svk.fi/wp-content/uploads/2022/01/IMG_20201216_145027-300x225-1.jpg
END:VEVENT
BEGIN:VEVENT
DTSTART;TZID=Europe/Helsinki:20250914T110000
DTEND;TZID=Europe/Helsinki:20250914T130000
DTSTAMP:20260420T225605
CREATED:20250816T121959Z
LAST-MODIFIED:20250816T125529Z
UID:3455-1757847600-1757854800@ita-paijanne.svk.fi
SUMMARY:Su. 14.9  klo.11.00  JUMALANPALVELUS\, puhuu Veikko Ripatti
DESCRIPTION:
URL:https://ita-paijanne.svk.fi/tapahtumat/su-11-9-klo-11-00-jumalanpalvelus-puhuu-veikko-ripatti/
END:VEVENT
BEGIN:VEVENT
DTSTART;TZID=Europe/Helsinki:20250909T110000
DTEND;TZID=Europe/Helsinki:20250909T120000
DTSTAMP:20260420T225605
CREATED:20250816T121452Z
LAST-MODIFIED:20250816T121452Z
UID:3450-1757415600-1757419200@ita-paijanne.svk.fi
SUMMARY:Ti. 9.9 klo.11.00  ON AIKA RUKOILLA!  Tutkitaan Jumalan Sanaa ja rukoillaan eri asioiden puolesta!
DESCRIPTION:
URL:https://ita-paijanne.svk.fi/tapahtumat/ti-9-9-klo-11-00-on-aika-rukoilla-tutkitaan-jumalan-sanaa-ja-rukoillaan-eri-asioiden-puolesta/
END:VEVENT
BEGIN:VEVENT
DTSTART;TZID=Europe/Helsinki:20250907T110000
DTEND;TZID=Europe/Helsinki:20250907T130000
DTSTAMP:20260420T225605
CREATED:20250816T121238Z
LAST-MODIFIED:20250816T121238Z
UID:3448-1757242800-1757250000@ita-paijanne.svk.fi
SUMMARY:7.9  klo.11.00  EHTOOLLISJUHLA\, puhuu Arto Manninen
DESCRIPTION:
URL:https://ita-paijanne.svk.fi/tapahtumat/7-9-klo-11-00-ehtoollisjuhla-puhuu-arto-manninen/
ATTACH;FMTTYPE=image/webp:https://ita-paijanne.svk.fi/wp-content/uploads/2022/05/risti-e1696008743298.webp
END:VEVENT
BEGIN:VEVENT
DTSTART;TZID=Europe/Helsinki:20250904T151000
DTEND;TZID=Europe/Helsinki:20250904T160000
DTSTAMP:20260420T225605
CREATED:20250816T121812Z
LAST-MODIFIED:20250816T124911Z
UID:3452-1756998600-1757001600@ita-paijanne.svk.fi
SUMMARY:To. 4.9  klo.15.10  HARTAUS. klo.15.30-16.00  jaetaan elintarviketuotteita
DESCRIPTION:
URL:https://ita-paijanne.svk.fi/tapahtumat/to-4-9-klo-15-10-hartaus-klo-15-30-16-00-jaetaan-elintarviketuotteita/
ATTACH;FMTTYPE=image/jpeg:https://ita-paijanne.svk.fi/wp-content/uploads/2025/05/Leip.JAK_.jpg
END:VEVENT
BEGIN:VEVENT
DTSTART;TZID=Europe/Helsinki:20250902T110000
DTEND;TZID=Europe/Helsinki:20250902T120000
DTSTAMP:20260420T225605
CREATED:20250816T121024Z
LAST-MODIFIED:20250816T121024Z
UID:3446-1756810800-1756814400@ita-paijanne.svk.fi
SUMMARY:Ti. 2.9  klo.11.00   ON AIKA RUKOILLA!  Tutkimme yhdessä Jumalan Sanaa ja rukoillaan.
DESCRIPTION:
URL:https://ita-paijanne.svk.fi/tapahtumat/ti-2-9-klo-11-00-on-aika-rukoilla-tutkimme-yhdessa-jumalan-sanaa-ja-rukoillaan/
END:VEVENT
BEGIN:VEVENT
DTSTART;TZID=Europe/Helsinki:20250831T110000
DTEND;TZID=Europe/Helsinki:20250831T130000
DTSTAMP:20260420T225605
CREATED:20250730T162717Z
LAST-MODIFIED:20250807T074514Z
UID:3440-1756638000-1756645200@ita-paijanne.svk.fi
SUMMARY:Su.31.8 klo.11.00  Jumalanpalvelus. Puhuu Veijo Grönholm.
DESCRIPTION:
URL:https://ita-paijanne.svk.fi/tapahtumat/su-31-8-klo-11-00-jumalanpalvelus/
ATTACH;FMTTYPE=image/jpeg:https://ita-paijanne.svk.fi/wp-content/uploads/2025/06/kyyhky.korj_.2.jpg
END:VEVENT
BEGIN:VEVENT
DTSTART;TZID=Europe/Helsinki:20250826T110000
DTEND;TZID=Europe/Helsinki:20250826T120000
DTSTAMP:20260420T225605
CREATED:20250730T162346Z
LAST-MODIFIED:20250730T162346Z
UID:3438-1756206000-1756209600@ita-paijanne.svk.fi
SUMMARY:Ti.26.8 klo.11.00. ON AIKA RUKOILLA ISRAELIN PUOLESTA\, Jouni Sinkkonen johdattelee rukoukseen.
DESCRIPTION:
URL:https://ita-paijanne.svk.fi/tapahtumat/ti-26-8-klo-11-00-on-aika-rukoilla-israelin-puolesta-jouni-sinkkonen-johdattelee-rukoukseen/
END:VEVENT
BEGIN:VEVENT
DTSTART;TZID=Europe/Helsinki:20250824T180000
DTEND;TZID=Europe/Helsinki:20250824T200000
DTSTAMP:20260420T225605
CREATED:20250730T161431Z
LAST-MODIFIED:20250818T091743Z
UID:3436-1756058400-1756065600@ita-paijanne.svk.fi
SUMMARY:Su.24.8  klo.18.00 (huom.aika!) JUMALANPALVELUS\, puhuu Pauli Särkkä
DESCRIPTION:
URL:https://ita-paijanne.svk.fi/tapahtumat/su-24-8-klo-11-00-jumalanpalvelus-puhuu-pauli-sarkka/
ATTACH;FMTTYPE=image/jpeg:https://ita-paijanne.svk.fi/wp-content/uploads/2023/11/Alttaritaulu.jpg
END:VEVENT
BEGIN:VEVENT
DTSTART;TZID=Europe/Helsinki:20250821T151000
DTEND;TZID=Europe/Helsinki:20250821T160000
DTSTAMP:20260420T225605
CREATED:20250730T161114Z
LAST-MODIFIED:20250730T161114Z
UID:3434-1755789000-1755792000@ita-paijanne.svk.fi
SUMMARY:To.21.8 klo.15.10 HARTAUS. Klo.15.30- 16.00 E8lintarviketuotteiden jako.
DESCRIPTION:
URL:https://ita-paijanne.svk.fi/tapahtumat/to-21-8-klo-15-10-hartaus-klo-15-30-16-00-e8lintarviketuotteiden-jako/
ATTACH;FMTTYPE=image/png:https://ita-paijanne.svk.fi/wp-content/uploads/2023/12/eu.kassi_.kuva_.2-e1737638933492.png
END:VEVENT
BEGIN:VEVENT
DTSTART;TZID=Europe/Helsinki:20250819T110000
DTEND;TZID=Europe/Helsinki:20250819T120000
DTSTAMP:20260420T225605
CREATED:20250730T160648Z
LAST-MODIFIED:20250730T162939Z
UID:3432-1755601200-1755604800@ita-paijanne.svk.fi
SUMMARY:Ti.19.8 klo.11.00. ON AIKA RUKOILLA !  Tutkitaan Sanaa ja rukoillaan.
DESCRIPTION:
URL:https://ita-paijanne.svk.fi/tapahtumat/ti-19-8-klo-11-00-on-aika-rukoilla-tutkitaan-sanaa-ja-rukoillaan/
END:VEVENT
BEGIN:VEVENT
DTSTART;TZID=Europe/Helsinki:20250817T110000
DTEND;TZID=Europe/Helsinki:20250817T130000
DTSTAMP:20260420T225605
CREATED:20250719T202900Z
LAST-MODIFIED:20250730T161700Z
UID:3421-1755428400-1755435600@ita-paijanne.svk.fi
SUMMARY:Su.17.8 klo.11.00 Jumalanpalvelus\, Seppo Peltomäki.
DESCRIPTION:
URL:https://ita-paijanne.svk.fi/tapahtumat/su-17-8-klo-11-00-jumalanpalvelus-seppo-peltomaki-3/
ATTACH;FMTTYPE=image/jpeg:https://ita-paijanne.svk.fi/wp-content/uploads/2025/06/kyyhky.korj_.2.jpg
END:VEVENT
BEGIN:VEVENT
DTSTART;TZID=Europe/Helsinki:20250816T110000
DTEND;TZID=Europe/Helsinki:20250816T120000
DTSTAMP:20260420T225605
CREATED:20250816T132630Z
LAST-MODIFIED:20250816T132630Z
UID:3480-1755342000-1755345600@ita-paijanne.svk.fi
SUMMARY:Ti. 16.9  klo.11.00  ON AIKA RUKOILLA!  Tutkitaan Sanaa ja rukoillaan.
DESCRIPTION:
URL:https://ita-paijanne.svk.fi/tapahtumat/ti-16-9-klo-11-00-on-aika-rukoilla-tutkitaan-sanaa-ja-rukoillaan-2/
ATTACH;FMTTYPE=image/jpeg:https://ita-paijanne.svk.fi/wp-content/uploads/2025/06/kyyhky.korj_.2.jpg
END:VEVENT
END:VCALENDAR